BEGIN:VCALENDAR
PRODID:-//eluceo/ical//2.0/EN
VERSION:2.0
CALSCALE:GREGORIAN
BEGIN:VEVENT
UID:event-984
DTSTAMP:20260425T141744Z
SUMMARY:Study Tour 2026 - South Korea
DESCRIPTION:Study Tour South Korea 2026: Are you ready to explore the world
  beyond Europe with fellow members of Asset | Financials? The StudyTour 20
 26 will take you on an incredible journey to an intercontinental destinati
 on\, combining cultural discovery\, academic enrichment\, and unforgettabl
 e memories. Discover Seoul\, Busan\, and Incheon on an unforgettable adven
 ture! 📅Dates: April 24 – May 6\, 2026 💰Cost: €999 (includes flig
 hts\, accommodation\, transfers\, activities\, and some meals) ⚡Act fast
 : only 25 spots available!
DTSTART:20260423T220000Z
DTEND:20260505T220000Z
END:VEVENT
BEGIN:VTIMEZONE
TZID:UTC
BEGIN:STANDARD
DTSTART:20260423T220000
TZNAME:UTC
TZOFFSETTO:+0000
TZOFFSETFROM:+0000
END:STANDARD
END:VTIMEZONE
END:VCALENDAR
